BEGIN:VCALENDAR
VERSION:2.0
PRODID:-//Swiss Marketing Bern - ECPv6.15.16//NONSGML v1.0//EN
CALSCALE:GREGORIAN
METHOD:PUBLISH
X-ORIGINAL-URL:https://www.swissmarketing-bern.ch
X-WR-CALDESC:Veranstaltungen im Swiss Marketing Bern
REFRESH-INTERVAL;VALUE=DURATION:PT1H
X-Robots-Tag:noindex
X-PUBLISHED-TTL:PT1H
BEGIN:VTIMEZONE
TZID:Europe/Zurich
BEGIN:DAYLIGHT
TZOFFSETFROM:+0100
TZOFFSETTO:+0200
TZNAME:CEST
DTSTART:20220327T010000
END:DAYLIGHT
BEGIN:STANDARD
TZOFFSETFROM:+0200
TZOFFSETTO:+0100
TZNAME:CET
DTSTART:20221030T010000
END:STANDARD
BEGIN:DAYLIGHT
TZOFFSETFROM:+0100
TZOFFSETTO:+0200
TZNAME:CEST
DTSTART:20230326T010000
END:DAYLIGHT
BEGIN:STANDARD
TZOFFSETFROM:+0200
TZOFFSETTO:+0100
TZNAME:CET
DTSTART:20231029T010000
END:STANDARD
BEGIN:DAYLIGHT
TZOFFSETFROM:+0100
TZOFFSETTO:+0200
TZNAME:CEST
DTSTART:20240331T010000
END:DAYLIGHT
BEGIN:STANDARD
TZOFFSETFROM:+0200
TZOFFSETTO:+0100
TZNAME:CET
DTSTART:20241027T010000
END:STANDARD
BEGIN:DAYLIGHT
TZOFFSETFROM:+0100
TZOFFSETTO:+0200
TZNAME:CEST
DTSTART:20250330T010000
END:DAYLIGHT
BEGIN:STANDARD
TZOFFSETFROM:+0200
TZOFFSETTO:+0100
TZNAME:CET
DTSTART:20251026T010000
END:STANDARD
BEGIN:DAYLIGHT
TZOFFSETFROM:+0100
TZOFFSETTO:+0200
TZNAME:CEST
DTSTART:20260329T010000
END:DAYLIGHT
BEGIN:STANDARD
TZOFFSETFROM:+0200
TZOFFSETTO:+0100
TZNAME:CET
DTSTART:20261025T010000
END:STANDARD
END:VTIMEZONE
BEGIN:VEVENT
DTSTART;TZID=Europe/Zurich:20250603T170000
DTEND;TZID=Europe/Zurich:20250603T180000
DTSTAMP:20260426T013807
CREATED:20250311T074535Z
LAST-MODIFIED:20250311T093754Z
UID:10000077-1748970000-1748973600@www.swissmarketing-bern.ch
SUMMARY:Nachhaltigkeit als Gamechanger für das Marketing – Webinar
DESCRIPTION:Nachhaltigkeit als Gamechanger für das Marketing. Wie das Marketing zum relevanten Treiber der Nachhaltigkeit wird. \nInhalt: \n\n\nMarketing und Nachhaltigkeit: Greenwashing oder aktiver Treiber der Veränderung?\nGestaltung eines «grünen» Marketingmix: Konkrete Ansatzpunkte für eine Veränderung des Verbraucherverhaltens\nDie Customer Journey im Kontext von Nachhaltigkeit: Konsumentinnen und Konsumenten mitnehmen auf die nachhaltige «Reise»\nEntwicklung nachhaltiger Marken: Glaubwürdig eine nachhaltige Markenidentität entwickeln\n\n\nInformationen:\n\nDas Webinar findet am 3. Juni 25 von 17.00 bis 18.00 Uhr statt.\nDer Zugangslink wird dir am 2.6.25 zugestellt.\nDas Webinar ist kostenlos\n\n\nReferentin:\nDr. Mareike Ahlers ist leidenschaftliche Expertin für nachhaltige Strategieentwicklung. Sie ist Gründerin und Geschäftsführerin der Strategieberatung bruhnpartner und Dozentin an verschiedenen Hochschulen. Seit vielen Jahren beschäftigt sie sich mit dem Erkennen und Verstehen von Kundenbedürfnissen und der erfolgreichen Entwicklung von nachhaltigen Strategien\, Marken und Angeboten aus Kundenperspektive. Dabei nutzt sie auch ihr tiefes Know-how und ihre Erfahrung beim Einsatz von qualitativen und quantitativen Marktforschungsmethoden und deren Implikationen für die Managementpraxis.  \nMareike promovierte 2006 am Departement für Marketing und Unternehmensführung der Universität Basel und ist seitdem engagierte Dozentin und hält Vorträge in grossem und kleinem Rahmen. \nIn ihrer freien Zeit engagiert sich Mareike Ahlers für die Förderung junger Frauen im geschäftlichen Umfeld sowie für verschiedene sozialen Aktivitäten rund um Schule und Nachbarschaft. Sie lebt in Basel und ist verheiratet. Ihre beiden Kinder im Alter von 12 und 6 Jahren sind für sie die beste Abwechslung zu den beruflichen Herausforderungen. \n\n\nÜber bruhnpartner \nbruhnpartner begleitet Unternehmen seit 15 Jahren erfolgreich und mit viel Leidenschaft bei der Strategieentwicklung. Unter unseren Kunden finden sich Start-ups\, mittelständische Familienunternehmen und internationale Konzerne. Sie alle verbindet das Interesse an wissenschaftlich fundierter Strategiearbeit\, die Ambition zur Weiterentwicklung von Strategien auf Basis von tiefem Kundenwissen und der Anspruch an die nachhaltige Gestaltung von Wachstum. \n\nWir begleiten Unternehmen als Sparringpartner bei grundlegenden strategischen Fragestellungen (u.a. Zielgruppensegmentierungen\, Marktbewertungen) sowie bei der Markenführung und Leistungsgestaltung. Beim Thema Nachhaltigkeit arbeiten wir mit Unternehmen auf unterschiedlichen Ebenen zusammen\, übergeordnet bei der Entwicklung einer Nachhaltigkeitsstrategie sowie im Kontext konkreter Projekte der Angebotsentwicklung\, im Marketing oder bei der internen Kultur. \nWir sind keine Berater\, die mit fertigen Konzepten aus der Schublade kommen. Jedes Projekt ist einzigartig – und genauso individuell erarbeiten wir Lösungen. Mit tiefem Interesse an den Themen unserer Kunden\, auf Augenhöhe und mit echtem Gestaltungswillen. \nUnsere Arbeitsweise verbindet Strategie mit Praxis: Wir entwickeln nicht nur Konzepte\, sondern sorgen auch dafür\, dass sie im Unternehmen verankert und umgesetzt werden. Unser Methodenspektrum aus Marktforschung\, Strategieberatung und Organisationsentwicklung stellt sicher\, dass fundierte Entscheidungen getroffen und die Menschen im Unternehmen aktiv in den Wandel einbezogen werden. \nAnmeldeschluss: 23. Mai 2025\n\nNachhaltigkeit als Gamechanger für das Marketing – Webinar (ID #6951)Bitte aktivieren Sie JavaScript in Ihrem Browser\, um dieses Formular fertigzustellen.Name *VornameNachnameAdresse\, PLZ und Ort *E-Mail *TelefonFirmaFunktionAnmeldung als... *MitgliedGastMessagesenden
URL:https://www.swissmarketing-bern.ch/event/nachhaltigkeit-als-gamechanger-fuer-das-marketing-webinar/
LOCATION:Webinar
ATTACH;FMTTYPE=image/png:https://www.swissmarketing-bern.ch/wp-content/uploads/Screenshot-2025-03-11-102721.png
END:VEVENT
BEGIN:VEVENT
DTSTART;TZID=Europe/Zurich:20250214T110000
DTEND;TZID=Europe/Zurich:20250214T114500
DTSTAMP:20260426T013807
CREATED:20221103T125648Z
LAST-MODIFIED:20241124T154236Z
UID:10000041-1739530800-1739533500@www.swissmarketing-bern.ch
SUMMARY:Kostenloses Webinar: Richtig exportieren / importieren
DESCRIPTION:Dieser Kurs bietet wertvolle Informationen für alle\, die im internationalen Handel tätig sind und ihre Wettbewerbsfähigkeit steigern wollen. \nThemen: \n\nWichtigkeit Export für Schweizer Wirtschaft\nVerflechtung der Schweiz im internationalen Handel\nHindernisse\, Grenzen\nZoll\nUrsprung\nLieferbedingungen: INCOTERMS\nZahlungsbedingungen – Zahlungsabsicherung\nVersand- und Zollpapiere\nRisiken\n\n\nReferentin:\nClaudia Schmidiger\, Eidg. Dipl. Aussenhandelsleiterin\n\n\n\nAnmeldeschluss: 7. Februar 2025 \n\nAnmeldeformular\n\nBitte aktivieren Sie JavaScript in Ihrem Browser\, um dieses Formular fertigzustellen.Name *VornameNachnameAdresse\, PLZ und Ort *E-Mail *TelefonFirmaFunktionAnmeldung als... *MitgliedGastPhonesenden
URL:https://www.swissmarketing-bern.ch/event/kostenloses-webinar-richtig-exportieren-importieren/
LOCATION:Webinar
CATEGORIES:Events
ATTACH;FMTTYPE=image/jpeg:https://www.swissmarketing-bern.ch/wp-content/uploads/Mapamundi-fisico-1024x659-1.jpg
END:VEVENT
BEGIN:VEVENT
DTSTART;TZID=Europe/Zurich:20231116T170000
DTEND;TZID=Europe/Zurich:20231116T180000
DTSTAMP:20260426T013807
CREATED:20230914T062335Z
LAST-MODIFIED:20230914T064548Z
UID:10000059-1700154000-1700157600@www.swissmarketing-bern.ch
SUMMARY:Einstieg in ChatGPT - Webinar
DESCRIPTION:Du bist hier genau richtig\, wenn Du Dich dafür interessierst\, wie Du mit ChatGPT Deine Marketing- und Kommunikationsaktivitäten effizienter und effektiver gestaltest. Erhalte von unserem Mitglied und ChatGPT-Experten Patrick Cupelin eine unkomplizierte Einführung in die Basisfunktionen von ChatGPT und entwickle ein Gespür für smarte “Prompts”\, um das wirkliche Potenzial von ChatGPT zu nutzen. Entdecke praxisnahe MarKom-Anwendungsbeispiele\, die Dich von viel Ballast im Berufsalltag befreien. Egal\, ob Anfänger oder Fortgeschrittener: Es wird Deine Arbeitsweise verändern. Nutze die Gelegenheit für den Austausch im anschliessenden Q&A. \n\nReferent:\nPatrick Cupelin\, Marketeer und Betriebswirt\, Digitalhandwerker mit Herz\n\n\n\n\nAnmeldeschluss: 13. November 2023\, Der Link zum Webinar wird dir am 15.11.23 geschickt. \n\nAnmeldeformular\n\nBitte aktivieren Sie JavaScript in Ihrem Browser\, um dieses Formular fertigzustellen.Name *VornameNachnameAdresse\, PLZ und Ort *E-Mail *TelefonFirmaFunktionAnmeldung als... *MitgliedGastMessagesenden
URL:https://www.swissmarketing-bern.ch/event/einstieg-in-chatgpt-webinar/
LOCATION:Webinar
CATEGORIES:Events
ATTACH;FMTTYPE=image/png:https://www.swissmarketing-bern.ch/wp-content/uploads/ChatGPT-e1694673050824.png
END:VEVENT
END:VCALENDAR