BEGIN:VCALENDAR
VERSION:2.0
PRODID:-//Swiss Marketing Bern - ECPv6.15.16//NONSGML v1.0//EN
CALSCALE:GREGORIAN
METHOD:PUBLISH
X-ORIGINAL-URL:https://www.swissmarketing-bern.ch
X-WR-CALDESC:Veranstaltungen im Swiss Marketing Bern
REFRESH-INTERVAL;VALUE=DURATION:PT1H
X-Robots-Tag:noindex
X-PUBLISHED-TTL:PT1H
BEGIN:VTIMEZONE
TZID:Europe/Zurich
BEGIN:DAYLIGHT
TZOFFSETFROM:+0100
TZOFFSETTO:+0200
TZNAME:CEST
DTSTART:20240331T010000
END:DAYLIGHT
BEGIN:STANDARD
TZOFFSETFROM:+0200
TZOFFSETTO:+0100
TZNAME:CET
DTSTART:20241027T010000
END:STANDARD
BEGIN:DAYLIGHT
TZOFFSETFROM:+0100
TZOFFSETTO:+0200
TZNAME:CEST
DTSTART:20250330T010000
END:DAYLIGHT
BEGIN:STANDARD
TZOFFSETFROM:+0200
TZOFFSETTO:+0100
TZNAME:CET
DTSTART:20251026T010000
END:STANDARD
BEGIN:DAYLIGHT
TZOFFSETFROM:+0100
TZOFFSETTO:+0200
TZNAME:CEST
DTSTART:20260329T010000
END:DAYLIGHT
BEGIN:STANDARD
TZOFFSETFROM:+0200
TZOFFSETTO:+0100
TZNAME:CET
DTSTART:20261025T010000
END:STANDARD
END:VTIMEZONE
BEGIN:VEVENT
DTSTART;TZID=Europe/Zurich:20250905T160000
DTEND;TZID=Europe/Zurich:20250905T220000
DTSTAMP:20260426T014059
CREATED:20250128T133942Z
LAST-MODIFIED:20250811T055319Z
UID:10000075-1757088000-1757109600@www.swissmarketing-bern.ch
SUMMARY:1. Berner-Marketing-Award
DESCRIPTION:Im Sommer 2025 erwacht ein neues Kapitel in der Berner Wirtschaft: Der Ursus Award\, ins Leben gerufen von Swiss Marketing Bern\, wird erstmals verliehen. Dieser Preis ist mehr als nur eine Auszeichnung – er ist eine Hommage an ein Unternehmen\, das sich durch herausragendes soziales\, kulturelles und sportliches Engagement in und um Bern auszeichnet. \nDer Ursus Award ist somit ein Zeichen für die Stärke und den Innovationsgeist der Berner Wirtschaft – und ein „bäriger“ Schritt in eine erfolgreiche Zukunft. \n\n  \nUnsere Eventlocation befindet sich im Schwellenmätteli in der “Güggeli Beiz” \n\n\n\n\n\n \n\n\n\n\n\nWeitere Informationen unter: www.berner-marketing-award.ch  \n\n\n\n\n\n\nAnmeldeschluss: Für Projekte 15. Juli 25 \nAnmeldeschluss: Für den Event 31. August 25 (Achtung\, Teilnehmerzahl auf 50 beschränkt). \n\nAnmeldeformular\n\nBitte aktivieren Sie JavaScript in Ihrem Browser\, um dieses Formular fertigzustellen.Name *VornameNachnameAdresse\, PLZ und Ort *E-Mail *TelefonFirmaFunktionAnmeldung als... *MitgliedGastWebsitesenden
URL:https://www.swissmarketing-bern.ch/event/berner-marketing-award/
CATEGORIES:Events
ATTACH;FMTTYPE=image/webp:https://www.swissmarketing-bern.ch/wp-content/uploads/Baer_award-e1743752824378.webp
END:VEVENT
END:VCALENDAR