BEGIN:VCALENDAR
VERSION:2.0
PRODID:-//Swiss Marketing Bern - ECPv6.15.16//NONSGML v1.0//EN
CALSCALE:GREGORIAN
METHOD:PUBLISH
X-WR-CALNAME:Swiss Marketing Bern
X-ORIGINAL-URL:https://www.swissmarketing-bern.ch
X-WR-CALDESC:Veranstaltungen im Swiss Marketing Bern
REFRESH-INTERVAL;VALUE=DURATION:PT1H
X-Robots-Tag:noindex
X-PUBLISHED-TTL:PT1H
BEGIN:VTIMEZONE
TZID:Europe/Zurich
BEGIN:DAYLIGHT
TZOFFSETFROM:+0100
TZOFFSETTO:+0200
TZNAME:CEST
DTSTART:20250330T010000
END:DAYLIGHT
BEGIN:STANDARD
TZOFFSETFROM:+0200
TZOFFSETTO:+0100
TZNAME:CET
DTSTART:20251026T010000
END:STANDARD
BEGIN:DAYLIGHT
TZOFFSETFROM:+0100
TZOFFSETTO:+0200
TZNAME:CEST
DTSTART:20260329T010000
END:DAYLIGHT
BEGIN:STANDARD
TZOFFSETFROM:+0200
TZOFFSETTO:+0100
TZNAME:CET
DTSTART:20261025T010000
END:STANDARD
BEGIN:DAYLIGHT
TZOFFSETFROM:+0100
TZOFFSETTO:+0200
TZNAME:CEST
DTSTART:20270328T010000
END:DAYLIGHT
BEGIN:STANDARD
TZOFFSETFROM:+0200
TZOFFSETTO:+0100
TZNAME:CET
DTSTART:20271031T010000
END:STANDARD
BEGIN:DAYLIGHT
TZOFFSETFROM:+0100
TZOFFSETTO:+0200
TZNAME:CEST
DTSTART:20280326T010000
END:DAYLIGHT
BEGIN:STANDARD
TZOFFSETFROM:+0200
TZOFFSETTO:+0100
TZNAME:CET
DTSTART:20281029T010000
END:STANDARD
END:VTIMEZONE
BEGIN:VEVENT
DTSTART;TZID=Europe/Zurich:20260619T083000
DTEND;TZID=Europe/Zurich:20260619T170000
DTSTAMP:20260425T152418
CREATED:20260213T130431Z
LAST-MODIFIED:20260218T074437Z
UID:10000084-1781857800-1781888400@www.swissmarketing-bern.ch
SUMMARY:Leadership – Kurs / Workshop 19.6. + 26.6.26
DESCRIPTION:Der SMC Bern bietet exklusiv einen Lehrgang Leadership an. \nDer Chef als Game Changer: Warum Führung heute über den Erfolg am Markt entscheidet \nIn der heutigen Arbeitswelt hat sich das Blatt gewendet. Bei akutem Personalmangel suchen sich Talente nicht mehr nur einen Job\, sondern ein Umfeld\, in dem sie wachsen können. Der Chef wird zum Game Changer: Er ist der Grund\, warum Menschen morgens motiviert kommen und – viel wichtiger – warum sie langfristig bleiben. \nKursziel:\n– nach der Ausbildung bist du in der Lage dich selber zur reflektieren und dein Team mit Spass und Weitsicht zu führen.\n– du lernst  mit einfachen Mitteln die grösste Wirkung in der Führung zu erzielen\n– du lernst klar und mitarbeiterbezogen zu kommunizieren\n– du lernst Ziele korrekt zu formulieren und Feedback als Führungsinstrument einzusetzen\n\nInhalt: \nTag 1: Grundlagen und Selbstreflexion\n\n\nFührungspersönlichkeiten:\n\nDie Psychologie des Führens\nVerschiedene Führungsstile (demokratisch\, autoritär\, Laissez-faire)\, welcher Führungsstil passt zu mir….\nPersönlichkeitsmerkmale erfolgreicher Führungskräfte\nEigene Stärken und Schwächen als Führungskraft reflektieren\n\n\nMotivation und Engagement:\n\nTheorie der Motivation (Maslow\, Herzberg)\nIndividuelle Motivationsfaktoren erkennen und ansprechen\nPraktische Übungen zur Mitarbeitermotivation\nZiele richtig definieren\n\n\nKommunikation:\n\nEffektive Kommunikationstechniken (aktives Zuhören\, Feedback geben und empfangen)\nKonfliktmanagement und -lösung\nAufbau einer vertrauensvollen Arbeitsatmosphäre\n\n\n\nTag 2: Praxis und Weiterentwicklung \n\nFührung in Veränderungsprozessen:\n\nUmgang mit Veränderungen und Widerstand\nChange-Management-Strategien\nEntwicklung einer gemeinsamen Vision\nSitzungen leiten\n\n\nDelegation und Empowerment:\n\nAufgaben effektiv delegieren\nMitarbeiter befähigen (Empowerment)\nVertrauen aufbauen und Verantwortung übertragen\n\n\nTeamführung und Zusammenarbeit:\n\nTeambuilding-Massnahmen\nKonfliktlösung in Teams\nFörderung von Zusammenarbeit und Innovation\nInformationsmanagement\n\n\n\n\nDigitale Führung:\n\nFührung in virtuellen Teams\nNutzung digitaler Tools für die Zusammenarbeit\n\n\nKulturelle Vielfalt in der Führung:\n\nInterkulturelle Kompetenz\nUmgang mit Diversität in Teams\n\n\n\n\nAusbildungsmethodik:\nLehrgespräche\, Gruppenarbeiten (Praxisorienteire Übungen und Fallstudien)\, Rollenspiele\, Einzelreflexion\nZielgruppe:\n– Ambitionierte Persönlichkeiten aus allen Branchen und Bereichen\, die eine Führungslaufbahn anstreben oder sich in eine Führungsposition hinein entwickeln möchten\n– Führungskräfte\, die gerade eine Führungsaufgabe übernommen haben und mehr Führungswirkung entfalten und Handlungskompetenzen aufbauen wollen\n– Führungskräfte\nInformationen:\n19. Juni 2024 Freitag\n08.30 Uhr Eintreffen der Kursteilnehmer\n09.00 Uhr Start Kurs / Workshop\n17.00 Uhr Ende\n26. Juni 2024 Samstag\n08.30 Uhr Eintreffen der Kursteilnehmer\n09.00 Uhr Start Kurs / Workshop\n17.00 Uhr Ende\nZertifikat:\nSMC-Bern Zertifikat\n\nKosten:\n\n– CHF 790.00 für KMU’s / Startups\n– CHF 490.00 für SMC Mitglieder\, Stellensuchende / Studenten\nIn den Kosten inbegriffen sind Kursunterlagen\, Pausenverpflegung und Zertifikat.\n\n\nKursleiter / Referent:\nExperten vom SMC Bern\, Dozenten Leadership und Kommunikation und Psychologen\n\n\nAnmeldeschluss: 30. Mai 2026\n\n\n\nLeadership – Kurs / Workshop 19.6. + 26.6.26 (ID #7124)Bitte aktivieren Sie JavaScript in Ihrem Browser\, um dieses Formular fertigzustellen.Name *VornameNachnameAdresse\, PLZ und Ort *E-Mail *TelefonFirmaFunktionAnmeldung als... *MitgliedGastWebsitesenden
URL:https://www.swissmarketing-bern.ch/event/leadership-kurs-workshop-19-6-26-6-26/
LOCATION:Harrys Home\, Bernstrasse 25\, Ostermundigen\, 3072
END:VEVENT
BEGIN:VEVENT
DTSTART;TZID=Europe/Zurich:20260619T173000
DTEND;TZID=Europe/Zurich:20260619T220000
DTSTAMP:20260425T152418
CREATED:20250908T072736Z
LAST-MODIFIED:20260207T162825Z
UID:10000080-1781890200-1781906400@www.swissmarketing-bern.ch
SUMMARY:Sommerapéro SMC Bern am 19.6.2026
DESCRIPTION:Sehr gerne laden wir die Mitglieder zum Sommer Apéro von Swiss Marketing Bern ein. \nDas Apéro und Essen findet in der Güggeli Beiz beim Schwellenmätteli statt. \n\nThema: Essen\, Trinken und Netzwerken\n\n\nTeilnehmer: Mitglieder \nInformationen: \n\n17.30 Uhr Eintreffen der Mitglieder\n18.00 Uhr Start Apéro danach Essen\nso lange wie man möchte 😀\n\n\nAnmeldeschluss: 10. Juni 2026 \n\nAnmeldeformular\n\nBitte aktivieren Sie JavaScript in Ihrem Browser\, um dieses Formular fertigzustellen.Name *VornameNachnameAdresse\, PLZ und Ort *E-Mail *TelefonFirmaFunktionAnmeldung als... *MitgliedGastCommentsenden
URL:https://www.swissmarketing-bern.ch/event/sommerapero-smc-bern-am-19-6-2026/
CATEGORIES:Events
ATTACH;FMTTYPE=image/jpeg:https://www.swissmarketing-bern.ch/wp-content/uploads/Gueggeli-Beiz.jpg
END:VEVENT
BEGIN:VEVENT
DTSTART;TZID=Europe/Zurich:20260901T083000
DTEND;TZID=Europe/Zurich:20260901T170000
DTSTAMP:20260425T152418
CREATED:20240906T085435Z
LAST-MODIFIED:20250908T073739Z
UID:10000068-1788251400-1788282000@www.swissmarketing-bern.ch
SUMMARY:Präsentationstechnik – Kurs / Workshop 1.9.26
DESCRIPTION:MaDer “SWISS MARKETING Bern approved” Kurs / Workshop richtet sich an alle Personen\, die oft das Wort vor anderen Personen ergreifen\, oder eine überzeugende und interessante Präsentation halten möchten.  \nIn der heutigen\, schnelllebigen Geschäftswelt ist eine überzeugende Präsentation für KMU und Startups von entscheidender Bedeutung. Sie ist oft die erste und einzige Chance\, potenzielle Kunden\, Investoren oder Partner von der eigenen Idee zu begeistern. \nKursziel:\nNach der Ausbildung ist der Teilnehmer in der Lage eine erfolgreiche\, interessante Präsentation zu halten und die Zuhörer zu begeistern.\nInhalt: \n– Die richtige Vorbereitung einer Präsentation\n– Gliederung einer erfolgreichen Präsentation (Einleitung\, Hauptteil\, Schlussteil)\n– Hilfsmittel richtig einsetzen\n– Die Wichtigkeit der ersten 20 Sekunden\n– Non-verbale Präsentation\n– Wie gehe ich mit Stress (Lampenfieber) um\n– Die verschiedenen Redephasen\n– Rhetorische Grundregeln und Stilmittel\n– Aktives Zuhören\nAusbildungsmethodik:\nLehrgespräche\, Gruppenarbeiten\, Referate\, praktische Beispiele\, Übungen\nInformationen:\n08.00 Uhr Eintreffen der Kursteilnehmer\n08.30 Uhr Start Kurs / Workshop\n17.00 Uhr Ende\nKosten:\n\n– CHF 390.00 für KMU’s / Startups\n– CHF 250.00 für SMC Mitglieder\, Stellensuchende / Studenten\nIn den Kosten inbegriffen sind Kursunterlagen\, Pausenverpflegung und Kursbestätigung.\n\nReferent:\n\nThomas Moser\, Eidg. Dipl. Marketingleiter\, Eidg. Dipl. Verkaufsleiter\, Präsentationstechnik Coach\, Dozent\, Prüfungsexperte \n\nAnmeldeschluss: 18. August 2026\n\nPräsentationstechnik – Kurs / Workshop 1.9.26 (ID #7015)Bitte aktivieren Sie JavaScript in Ihrem Browser\, um dieses Formular fertigzustellen.Name *VornameNachnameAdresse\, PLZ und Ort *E-Mail *TelefonFirmaFunktionAnmeldung als... *MitgliedGastWebsitesenden
URL:https://www.swissmarketing-bern.ch/event/praesentationstechnik-kurs-workshop-2-9-25/
LOCATION:Harrys Home\, Bernstrasse 25\, Ostermundigen\, 3072
END:VEVENT
BEGIN:VEVENT
DTSTART;TZID=Europe/Zurich:20261106T180000
DTEND;TZID=Europe/Zurich:20261106T233000
DTSTAMP:20260425T152418
CREATED:20260207T162930Z
LAST-MODIFIED:20260207T163324Z
UID:10000082-1793988000-1794007800@www.swissmarketing-bern.ch
SUMMARY:7. Weihnachtsessen SWISS MARKETING Bern
DESCRIPTION:Unser 6. Weihnachtsessen findet im Contra Corrente\, Ostermundigenstrasse 69 in 3072 Ostermundigen statt. \nhttps://www.contra-corrente.ch/ \n\nThema: Essen\, Trinken und Netzwerken\n\n\nInformationen:\n18.00 Uhr Eintreffen der Mitglieder\n18.30 Uhr Apéro/Essen\nkein Ende 🙂\n\n\n\nAnmeldeschluss: 4. November 2024 \n\nAnmeldeformular\n\nBitte aktivieren Sie JavaScript in Ihrem Browser\, um dieses Formular fertigzustellen.Name *VornameNachnameAdresse\, PLZ und Ort *E-Mail *TelefonFirmaFunktionAnmeldung als... *MitgliedGastWebsitesenden
URL:https://www.swissmarketing-bern.ch/event/7-weihnachtsessen-swiss-marketing-bern/
CATEGORIES:Events
ATTACH;FMTTYPE=image/png:https://www.swissmarketing-bern.ch/wp-content/uploads/Corente.png
END:VEVENT
BEGIN:VEVENT
DTSTART;TZID=Europe/Zurich:20270205T173000
DTEND;TZID=Europe/Zurich:20270205T200000
DTSTAMP:20260425T152418
CREATED:20260213T124914Z
LAST-MODIFIED:20260213T125455Z
UID:10000083-1801848600-1801857600@www.swissmarketing-bern.ch
SUMMARY:8. Mitgliederversammlung SMC Bern
DESCRIPTION:Sehr gerne laden wir die Mitglieder des SMC Berns zur ordentlichen Mitgliederversammlung ein. \nDie Mitgliederversammlung findet im Harry’s Home an der Bernstrasse 25 in 3072 Ostermundigen (Bärentower) statt. Der Sitzungsraum befindet sich im Parterre bei der Anmeldung. \n \nThema: Mitgliederversammlung gemäss Traktanden \nReferent/in: Vorstand und Mitglieder \nInformationen: \n\n17.30 Uhr Eintreffen der Mitglieder\n18.00 Uhr Start der Mitgliederversammlung\n19.00 Uhr circa Ende Mitgliederversammlung\nab 19.00 Uhr Apéro und wer möchte gemeinsames Abendessen\n\n\nAnmeldeschluss: 23. Januar 2027 \n\nAnmeldeformular\n\nBitte aktivieren Sie JavaScript in Ihrem Browser\, um dieses Formular fertigzustellen.Name *VornameNachnameAdresse\, PLZ und Ort *E-Mail *TelefonFirmaFunktionAnmeldung als... *MitgliedGastCommentsenden
URL:https://www.swissmarketing-bern.ch/event/8-mitgliederversammlung-smc-bern/
LOCATION:Harrys Home\, Bernstrasse 25\, Ostermundigen\, 3072
CATEGORIES:Events
ATTACH;FMTTYPE=image/png:https://www.swissmarketing-bern.ch/wp-content/uploads/Screenshot-2023-09-20-105431.png
END:VEVENT
END:VCALENDAR